BEGIN:VCALENDAR
VERSION:2.0
PRODID:-//Historic Sports Car Club - ECPv6.3.5//NONSGML v1.0//EN
CALSCALE:GREGORIAN
METHOD:PUBLISH
X-ORIGINAL-URL:https://hscc.org.uk
X-WR-CALDESC:Events for Historic Sports Car Club
REFRESH-INTERVAL;VALUE=DURATION:PT1H
X-Robots-Tag:noindex
X-PUBLISHED-TTL:PT1H
BEGIN:VTIMEZONE
TZID:Europe/London
BEGIN:DAYLIGHT
TZOFFSETFROM:+0000
TZOFFSETTO:+0100
TZNAME:BST
DTSTART:20220327T010000
END:DAYLIGHT
BEGIN:STANDARD
TZOFFSETFROM:+0100
TZOFFSETTO:+0000
TZNAME:GMT
DTSTART:20221030T010000
END:STANDARD
END:VTIMEZONE
BEGIN:VEVENT
DTSTART;VALUE=DATE:20220826
DTEND;VALUE=DATE:20220829
DTSTAMP:20260423T164540
CREATED:20220203T151923Z
LAST-MODIFIED:20220801T140511Z
UID:14262-1661472000-1661731199@hscc.org.uk
SUMMARY:Silverstone GP
DESCRIPTION:Moving to a new date at the end of August (26-28)\, the Classic at Silverstone is the biggest event of all in terms of classic and historic motor sport. For three days\, the Silverstone Grand Prix circuit will echo to a fabulous array of races with the HSCC team\, once again\, responsible for running the racing element of this vast event. Our own grids in action will include Historic Formula 2\, Thundersports and Historic Formula Junior. \nAfter qualifying all day on Friday\, racing will run throughout Saturday and Sunday at this flagship event for historic racing. \nFull information for competitors is here: \nhttps://www.silverstone.co.uk/competitor-information \n 
URL:https://hscc.org.uk/event/silverstone-gp-2/
LOCATION:Silverstone\, Silverstone Circuit\, Towcester\, Northants\, NN12 8TN\, United Kingdom
CATEGORIES:Formula Junior,Historic F2,Thundersports
END:VEVENT
END:VCALENDAR