BEGIN:VCALENDAR
VERSION:2.0
PRODID:-//Historic Sports Car Club - ECPv6.3.5//NONSGML v1.0//EN
CALSCALE:GREGORIAN
METHOD:PUBLISH
X-ORIGINAL-URL:https://hscc.org.uk
X-WR-CALDESC:Events for Historic Sports Car Club
REFRESH-INTERVAL;VALUE=DURATION:PT1H
X-Robots-Tag:noindex
X-PUBLISHED-TTL:PT1H
BEGIN:VTIMEZONE
TZID:Europe/London
BEGIN:DAYLIGHT
TZOFFSETFROM:+0000
TZOFFSETTO:+0100
TZNAME:BST
DTSTART:20210328T010000
END:DAYLIGHT
BEGIN:STANDARD
TZOFFSETFROM:+0100
TZOFFSETTO:+0000
TZNAME:GMT
DTSTART:20211031T010000
END:STANDARD
END:VTIMEZONE
BEGIN:VEVENT
DTSTART;VALUE=DATE:20210730
DTEND;VALUE=DATE:20210802
DTSTAMP:20260424T203720
CREATED:20210119T071855Z
LAST-MODIFIED:20210726T123924Z
UID:9555-1627603200-1627862399@hscc.org.uk
SUMMARY:The Classic\, Silverstone
DESCRIPTION:IMPORTANT NOTE (26 July 2021):\nClassic Silverstone Testing is now closed to all amendments other than withdrawals.\n  \nHSCC Thundersports\, Historic Formula 2 and Formula Junior are part of the schedule for The Classic\, Silverstone \nwww.silverstone.co.uk/competitor-information \nThis includes the following information: \n\nEssential Competitor Guide to the Classic\nHSCC Final Instructions (these are not quite finalised yet so will be available soon)\nSite Safety Rules\nCovid-19 Site Safety Rules (coming soon – see below)\nTest Day Booking Form\nTest Day Timetable (coming soon)\nProvisional Track Timetable\nMulticar Preparers Booking Form\nCompetitor Motorhome Booking Form\nSilverstone Auctions Drinks Reception Invites\, Empire RV Motorhome Hire info and other great offers from partners\n\nThe Essential Competitor Guide To The Classic includes details on the following: \n\nPre-Event Information and To Dos\nPit Garage Allocation\nAccess/Setup info re passes/wristbands and route maps etc\nOnsite Communications\, Results & Live Timing\nDiscounted tickets for competitors
URL:https://hscc.org.uk/event/silverstone-classic-4/
LOCATION:Silverstone\, Silverstone Circuit\, Towcester\, Northants\, NN12 8TN\, United Kingdom
CATEGORIES:Formula Junior,Historic F2,Thundersports
END:VEVENT
BEGIN:VEVENT
DTSTART;VALUE=DATE:20210828
DTEND;VALUE=DATE:20210831
DTSTAMP:20260424T203720
CREATED:20201213T100909Z
LAST-MODIFIED:20210222T221229Z
UID:9330-1630108800-1630367999@hscc.org.uk
SUMMARY:Oulton Park
DESCRIPTION:The Oulton Gold Cup is a traditional highlight of the HSCC racing season and typically draws a bumper crowd to the wonderful Cheshire parkland track. \nAfter a full day of qualifying on Saturday\, racing starts at mid-day on Sunday (due to local noise restrictions) and there is more qualifying and racing on Bank Holiday Monday. \nOn the programme will be Aurora Trophy/Geoff Lees Trophy\, Dunlop Saloon Car Cup\, Guards Trophy\, Formula Junior\, Historic Road Sports\, 70s Road Sports\, Historic Touring Cars\, Classic Formula 3/Classic Formula Ford 2000\, Historic Formula 3\, Historic Formula Ford\, Classic Formula Ford and the guesting Heritage Formula Ford.
URL:https://hscc.org.uk/event/oulton-park/
LOCATION:Oulton Park\, Oulton Park\, Little Budworth\, Cheshire\, CW6 9BW\, United Kingdom
CATEGORIES:70s Road Sports,Classic F3,Classic FF2000,Classic Formula Ford,Derek Bell Trophy,Formula Junior,Geoff Lees Trophy,Guards Trophy,Historic FF2000,Historic Formula 3,Historic Formula Ford,Historic Road Sports,Historic Touring Cars
END:VEVENT
END:VCALENDAR