BEGIN:VCALENDAR
VERSION:2.0
PRODID:-//Historic Sports Car Club - ECPv6.3.5//NONSGML v1.0//EN
CALSCALE:GREGORIAN
METHOD:PUBLISH
X-ORIGINAL-URL:https://hscc.org.uk
X-WR-CALDESC:Events for Historic Sports Car Club
REFRESH-INTERVAL;VALUE=DURATION:PT1H
X-Robots-Tag:noindex
X-PUBLISHED-TTL:PT1H
BEGIN:VTIMEZONE
TZID:Europe/London
BEGIN:DAYLIGHT
TZOFFSETFROM:+0000
TZOFFSETTO:+0100
TZNAME:BST
DTSTART:20210328T010000
END:DAYLIGHT
BEGIN:STANDARD
TZOFFSETFROM:+0100
TZOFFSETTO:+0000
TZNAME:GMT
DTSTART:20211031T010000
END:STANDARD
BEGIN:DAYLIGHT
TZOFFSETFROM:+0000
TZOFFSETTO:+0100
TZNAME:BST
DTSTART:20220327T010000
END:DAYLIGHT
BEGIN:STANDARD
TZOFFSETFROM:+0100
TZOFFSETTO:+0000
TZNAME:GMT
DTSTART:20221030T010000
END:STANDARD
BEGIN:DAYLIGHT
TZOFFSETFROM:+0000
TZOFFSETTO:+0100
TZNAME:BST
DTSTART:20230326T010000
END:DAYLIGHT
BEGIN:STANDARD
TZOFFSETFROM:+0100
TZOFFSETTO:+0000
TZNAME:GMT
DTSTART:20231029T010000
END:STANDARD
END:VTIMEZONE
BEGIN:VEVENT
DTSTART;VALUE=DATE:20231014
DTEND;VALUE=DATE:20231016
DTSTAMP:20260420T182919
CREATED:20221213T132037Z
LAST-MODIFIED:20230829T081756Z
UID:17215-1697241600-1697414399@hscc.org.uk
SUMMARY:Silverstone
DESCRIPTION:The annual HSCC Finals Meeting on the National circuit at Silverstone
URL:https://hscc.org.uk/event/silverstone-5/
LOCATION:Silverstone\, Silverstone Circuit\, Towcester\, Northants\, NN12 8TN\, United Kingdom
CATEGORIES:70s Road Sports,80s Production,Classic Clubmans,Classic F3,Classic Formula Ford,Formula Junior,Guards Trophy,Historic FF2000,Historic Formula 3,Historic Formula Ford,Historic Modsports and Special Saloons,Historic Road Sports,Historic Touring Cars
END:VEVENT
BEGIN:VEVENT
DTSTART;VALUE=DATE:20230624
DTEND;VALUE=DATE:20230626
DTSTAMP:20260420T182919
CREATED:20221213T131313Z
LAST-MODIFIED:20230127T140347Z
UID:17205-1687564800-1687737599@hscc.org.uk
SUMMARY:Donington Park
DESCRIPTION:The mid-summer race weekend at Donington Park
URL:https://hscc.org.uk/event/donington-park-6/
LOCATION:Donington\, Donington Park\, Castle Donington\, Derby\, DE74 2RP\, United Kingdom
CATEGORIES:70s Road Sports,Classic Clubmans,Classic F3,Classic Formula Ford,Derek Bell Trophy,Formula Junior,Guards Trophy,Historic Formula Ford,Historic Modsports and Special Saloons,Historic Road Sports,Historic Touring Cars,Thundersports
END:VEVENT
BEGIN:VEVENT
DTSTART;VALUE=DATE:20230506
DTEND;VALUE=DATE:20230508
DTSTAMP:20260420T182919
CREATED:20221213T131046Z
LAST-MODIFIED:20230127T140104Z
UID:17201-1683331200-1683503999@hscc.org.uk
SUMMARY:Cadwell Park
DESCRIPTION:The Wolds Trophy meeting at the fabulous Lincolnshire venue
URL:https://hscc.org.uk/event/cadwell-park-3/
LOCATION:Cadwell Park\, Cadwell Park Circuit\, Louth\, Lincolnshire\, LN11 9SE
CATEGORIES:70s Road Sports,80s Production,Classic Clubmans,Formula Junior,Historic FF2000,Historic Formula 3,Historic Road Sports,Historic Touring Cars
END:VEVENT
BEGIN:VEVENT
DTSTART;VALUE=DATE:20230422
DTEND;VALUE=DATE:20230424
DTSTAMP:20260420T182919
CREATED:20221213T130841Z
LAST-MODIFIED:20230131T131646Z
UID:17199-1682121600-1682294399@hscc.org.uk
SUMMARY:Snetterton
DESCRIPTION:The season opening race meeting on the 300 circuit at Snetterton will include the re-launched Autosport 3-Hours for pre ’66 GT cars. \nRecreating the former Autosport Three Hour race\, the HSCC will run the endurance race on the Snetterton 200 circuit on Sunday April 23 for all pre ‘66 GT cars. \nThe race will be attractive to those who normally compete in the HSCC’s Guards Trophy as well as a range of other championships and series. The Club is keen to welcome competitors who want to tackle this one-off endurance contest and cars from Classic K\, Gentleman Drivers\, GT and Sports Car Cup\, Equipe GTS\, Ecurie GTS\, and Motor Racing Legends will all be eligible for the race. \nThe three-hour contest will be open to two or more drivers per car with pit stops and special refuelling arrangements. A widened choice of tyres is being considered for the race. \nAndy Dee-Crowne\, CEO of the HSCC\, said: “We have been looking to bring this race back onto the schedule in tribute to the original Autosport Three Hours\, and we felt that this was a good time to re-launch it at our annual Snetterton race meeting. \n“We hope to attract a wide range of GT cars of all engine capacities\, including those that may not normally race with the HSCC but will be very welcome to come and tackle this one off race. Where necessary\, day membership of the HSCC will be included in the entry fee.”
URL:https://hscc.org.uk/event/snetterton-2/
LOCATION:Snetterton\, Snetterton Circuit\, Norwich\, Norfolk\, NR16 2JU\, United Kingdom
CATEGORIES:70s Road Sports,80s Production,Classic Clubmans,Classic F3,Classic Formula Ford,Formula Junior,Historic FF2000,Historic Formula Ford,Historic Modsports and Special Saloons,Historic Road Sports
END:VEVENT
BEGIN:VEVENT
DTSTART;VALUE=DATE:20221015
DTEND;VALUE=DATE:20221017
DTSTAMP:20260420T182919
CREATED:20220107T175826Z
LAST-MODIFIED:20220208T154643Z
UID:13978-1665792000-1665964799@hscc.org.uk
SUMMARY:Silverstone
DESCRIPTION:The HSCC season concludes\, as is tradition\, at Silverstone for the Finals Meeting on 15/16 October on the National circuit. This ever-popular date will be the deciding rounds of most of the Club’s championships after a season long battle. Races on the National circuit always deliver great entertainment and lots of excitement as titles are won and lost. \nRacing on Saturday alone are the Guards Trophy and Historic Formula Ford grids. Running on Sunday alone are Classic Formula 3\, Historic Road Sports\, 70s Road Sports and Classic Clubmans while racing across the weekend will be Historic Touring Cars\, Classic Formula Ford\, Aurora Trophy/Geoff Lees Trophy\, Historic Formula Junior and Historic Formula Ford 2000. It will be a fitting climax to the club’s main championship racing season.
URL:https://hscc.org.uk/event/silverstone-2/
LOCATION:Silverstone\, Silverstone Circuit\, Towcester\, Northants\, NN12 8TN\, United Kingdom
CATEGORIES:70s Road Sports,Classic Clubmans,Classic F3,Classic Formula Ford,Derek Bell Trophy,Formula Junior,Geoff Lees Trophy,Guards Trophy,Historic FF2000,Historic Formula Ford,Historic Road Sports,Historic Touring Cars
END:VEVENT
BEGIN:VEVENT
DTSTART;VALUE=DATE:20220903
DTEND;VALUE=DATE:20220905
DTSTAMP:20260420T182919
CREATED:20220107T175657Z
LAST-MODIFIED:20220208T154604Z
UID:13975-1662163200-1662335999@hscc.org.uk
SUMMARY:Croft
DESCRIPTION:On 3/4 September\, the HSCC will make a welcome return to the Croft circuit in North Yorkshire as the popular Nostalgia Meeting returns after a couple of years away. Croft is a great venue for racing with a real mix of fast and slow corners and presents a great challenge for drivers\, backed up by a warm welcome from the venue. \nA whole clutch of Club categories will be in action with two races each across the weekend. The programme takes in Historic Road Sports\, 70s Road Sports\, Historic Touring Cars\, Guards Trophy\, Historic Formula Ford\, Classic Formula Ford\, Historic Formula 3\, Aurora Trophy/Geoff Lees Trophy\, Historic Formula Ford 2000\, Classic Clubmans and 80s Production. \nTraditionally\, the Croft Nostalgia Meeting has been a great celebration of motor sport and transport history\, with much going on alongside the racing to make it a great family weekend.
URL:https://hscc.org.uk/event/croft/
LOCATION:Croft\, Croft Circuit\, Dalton on Tees\, North Yorkshire\, DL2 2PL
CATEGORIES:70s Road Sports,80s Production,Classic Clubmans,Classic Formula Ford,Derek Bell Trophy,Geoff Lees Trophy,Guards Trophy,Historic FF2000,Historic Formula 3,Historic Formula Ford,Historic Road Sports,Historic Touring Cars
END:VEVENT
BEGIN:VEVENT
DTSTART;VALUE=DATE:20220806
DTEND;VALUE=DATE:20220807
DTSTAMP:20260420T182919
CREATED:20220107T175559Z
LAST-MODIFIED:20220208T154431Z
UID:13973-1659744000-1659830399@hscc.org.uk
SUMMARY:Oulton Park
DESCRIPTION:A week after the Gold Cup\, the HSCC is back at Oulton Park on Saturday 6 August for a one-day race meeting on the International Circuit with priority given to those classes that were not able to race up the Gold Cup. \nClassic Formula 3\, Historic Road Sports\, 70s Road Sports\, Historic Touring Cars\, Historic Formula Ford\, Classic Clubmans and 80s Production will be joined by the second event for the new Historic Modsports and Special Saloons series to make a full day of racing on the full International circuit. \n 
URL:https://hscc.org.uk/event/oulton-park-3/
LOCATION:Oulton Park\, Oulton Park\, Little Budworth\, Cheshire\, CW6 9BW\, United Kingdom
CATEGORIES:70s Road Sports,80s Production,Classic Clubmans,Classic F3,Historic Formula Ford,Historic Road Sports,Historic Touring Cars
END:VEVENT
BEGIN:VEVENT
DTSTART;VALUE=DATE:20220618
DTEND;VALUE=DATE:20220620
DTSTAMP:20260420T182919
CREATED:20220107T175242Z
LAST-MODIFIED:20220208T154200Z
UID:13967-1655510400-1655683199@hscc.org.uk
SUMMARY:Donington Park
DESCRIPTION:In mid-June\, attention moves to Donington Park for a real mid-summer mid-season weekend (18/19 June) on what remains one of Britain’s most popular tracks. \nAnother bumper weekend of racing includes the Aurora and Geoff Lees Trophy running on Saturday only. Out on Sunday only are Historic Road Sports\, 70s Road Sports\, Historic Touring Cars and Classic Clubmans. In action over the weekend will be Guards Trophy\, Thundersports\, Historic Formula Ford\, Classic Formula Ford\, Historic Formula 3\, Historic Formula Ford 2000 and guest races from the Monoposto Racing Club. \nWith excellent facilities\, re-investment by MotorSport Vision and classic corners like the downhill plunge of the Craner Curves and the blind brow Coppice\, Donington Park is a great place to go motor racing and its central location makes it an easy trip for just about everybody\, wherever they are based. It is another jewel in the Club’s 2022 schedule. \n 
URL:https://hscc.org.uk/event/donington-park-4/
LOCATION:Donington\, Donington Park\, Castle Donington\, Derby\, DE74 2RP\, United Kingdom
CATEGORIES:70s Road Sports,Classic Clubmans,Classic Formula Ford,Derek Bell Trophy,Geoff Lees Trophy,Guards Trophy,Historic FF2000,Historic Formula 3,Historic Formula Ford,Historic Road Sports,Historic Touring Cars,Thundersports
END:VEVENT
BEGIN:VEVENT
DTSTART;VALUE=DATE:20220604
DTEND;VALUE=DATE:20220606
DTSTAMP:20260420T182919
CREATED:20220107T175131Z
LAST-MODIFIED:20220208T154118Z
UID:13965-1654300800-1654473599@hscc.org.uk
SUMMARY:Cadwell Park
DESCRIPTION:The special Bank Holiday weekend in early June (Saturday/Sunday 4/5 June) marks the annual Wolds Trophy meeting at Cadwell Park. One of Britain’s most technical and challenging circuits\, Cadwell offers a fabulous three-dimensional challenge as it nestles in a beautiful setting in the Lincolnshire Wolds. \nUnder the stewardship of MotorSport Vision\, Cadwell has never looked better in terms of general up-keep and facilities and the Wolds Trophy has become a very popular date on our summer racing calendar. Hopefully\, after the constraints of Covid for the last two years\, this year will mark a return of barbecues\, picnics and social gatherings in the paddock on Saturday evening\, as many competitors take the chance to camp over at this wonderful venue. \nThe HSCC categories will have double headers at Cadwell Park\, including both Road Sports grids\, both Formula Ford grids\, Historic Touring Cars\, Formula Junior\, Historic Ford 2000\, Classic Clubmans and 80s Production. Making its debut\, with a pair of races\, will be the Club’s new Historic Modsports and Saloons category. \nIn addition\, we will welcome guest races from the Northern Sports and Saloon Car Championship. This popular series\, run by the Darlington and District Motor Club\, features a wide array of modern sports and GT cars.
URL:https://hscc.org.uk/event/cadwell-park-2/
LOCATION:Cadwell Park\, Cadwell Park Circuit\, Louth\, Lincolnshire\, LN11 9SE
CATEGORIES:70s Road Sports,80s Production,Classic Clubmans,Classic Formula Ford,Formula Junior,Historic FF2000,Historic Formula Ford,Historic Road Sports,Historic Touring Cars
END:VEVENT
BEGIN:VEVENT
DTSTART;VALUE=DATE:20220402
DTEND;VALUE=DATE:20220404
DTSTAMP:20260420T182919
CREATED:20220107T174627Z
LAST-MODIFIED:20220208T152236Z
UID:13957-1648857600-1649030399@hscc.org.uk
SUMMARY:Brands Hatch Indy
DESCRIPTION:The HSCC’s 2022 racing season kicks off on the Indy circuit at Brands Hatch on April 2/3\, two weeks before the Easter weekend. It should be a great start to the season with all grids having a double-header on the ever entertaining Indy circuit at the famous Kent venue \nOn Saturday 70s Road Sports 80s Production and Formula Junior all in action. while on Sunday only are Historic Road Sports and Historic Touring Cars. Racing on both days of the weekend are Classic Formula 3\, Historic Formula Ford 2000\, Classic Clubmans and Formula Atlantic. The double-header for Formula Atlantic is a new venture for the Club\, bringing together the growing number of such cars that are being rebuilt and race-prepared for this wonderful 1970s and early 1980s category. Hopefully\, this will be a great start to the year for the category and lead on to perhaps some more stand-alone races later in the season. \nBrands Hatch Indy is a hectic lap with little chance to rest\, as the circuit constantly changes direction and elevation. The spectacular plunge down Paddock Hill Bend remains one of the big challenges in British racing was the tricky sequence of corners at Surtees\, Clearways and Clark is always a scene of place changing.
URL:https://hscc.org.uk/event/brands-hatch-indy-2-3-april/
LOCATION:Brands Hatch\, Brands Hatch Circuit\, Longfield\, Kent\, DA3 8NG\, United Kingdom
CATEGORIES:70s Road Sports,80s Production,Classic Clubmans,Classic F3,Formula Junior,Historic FF2000,Historic Road Sports,Historic Touring Cars
END:VEVENT
BEGIN:VEVENT
DTSTART;VALUE=DATE:20210918
DTEND;VALUE=DATE:20210920
DTSTAMP:20260420T182919
CREATED:20201213T100928Z
LAST-MODIFIED:20210901T141956Z
UID:9332-1631923200-1632095999@hscc.org.uk
SUMMARY:Mallory Park
DESCRIPTION:Already\, we are in September and our attention is turning to the HSCC’s return to Mallory Park after a longish absence.\n\nWe have a good entry building but have space for lots more for a proper club meeting with a very attractive entry fee. \nAfter a gap of around a decade\, the HSCC will return to Mallory Park for a two-day event in September. This will be a weekend in the best tradition of club racing and promises two full days of action at the Leicestershire track. \nThe programme will include Historic Formula3\, Historic Road Sports\, 70s Road Sports\, Historic Touring Cars\, Classic Formula Ford 2000\, Historic Formula Ford 2000\, Classic Clubmans\, Historic Formula Ford\, Classic Formula Ford\, 80s Production Saloons and GT and the guesting Sprite/Midget Challenge. \n\nThe provisional timetable (due to be published shortly) has most categories in and out on one day for a 15-minute qualifying session and two 15-minute races.\n\nWe hope you will support this event\, and entries can be placed via: https://online.hscc.org.uk/ \nNOTE: A test day has been added at Mallory Park on Thursday 16 September. Details are here: \n\n\n\n\nGeneral Testing \n \n 
URL:https://hscc.org.uk/event/mallory-park/
LOCATION:Mallory Park\, Church Rd\,  Kirkby Mallory \, Leicestershire\, LE9 7QE\, United Kingdom
CATEGORIES:70s Road Sports,80s Production,Classic Clubmans,Classic F3,Classic FF2000,Classic Formula Ford,Historic FF2000,Historic Formula 3,Historic Formula Ford,Historic Road Sports,Historic Touring Cars
END:VEVENT
BEGIN:VEVENT
DTSTART;VALUE=DATE:20210709
DTEND;VALUE=DATE:20210712
DTSTAMP:20260420T182919
CREATED:20201213T100845Z
LAST-MODIFIED:20210628T082422Z
UID:9326-1625788800-1626047999@hscc.org.uk
SUMMARY:Brands Hatch
DESCRIPTION:The Legends of Brands Super Prix weekend will have a fresh format for 2021 and for the first time the event will use both the Indy and Grand Prix circuit layouts at the hugely popular venue. \nFriday’s programme will take place on the Indy circuit before the action switches to the sensational Grand Prix circuit for Saturday and Sunday. Provisionally\, Friday’s schedule is for five test sessions for weekend competitors before five qualifying sessions and five races through the afternoon. \nThe six races set for Friday afternoon on the Indy circuit are Classic Clubmans\, Classic F3\, Historic Formula Ford 2000 (two heats and a final) and Champion of Brands Formula Ford. With the exception of Classic Clubmans and Champion of Brands FF\, all those classes then switch to the Grand Prix circuit on Saturday. \nOn the GP circuit on Saturday and Sunday will be races for Guards Trophy\, Historic Road Sports\, Historic FF1600\, Historic FF2000\, Thundersports\, Classic FF1600\, Historic F3\, 70s Road Sports\, Historic Touring Cars\, Formula Junior\, Classic Formula 3/Classic Formula Ford 2000 and Aurora Trophy/Geoff Lees Trophy. \nSignificant guests will be racers from the Historic Grand Prix Cars Association\, with one qualifying session and three races on Saturday and Sunday for a fabulous array of pre ’66 Grand Prix cars.
URL:https://hscc.org.uk/event/brands-hatch/
LOCATION:Brands Hatch\, Brands Hatch Circuit\, Longfield\, Kent\, DA3 8NG\, United Kingdom
CATEGORIES:70s Road Sports,Classic Clubmans,Classic F3,Classic FF2000,Classic Formula Ford,Derek Bell Trophy,Formula Junior,Geoff Lees Trophy,Guards Trophy,Historic FF2000,Historic Formula 3,Historic Formula Ford,Historic Road Sports,Historic Touring Cars,Thundersports
END:VEVENT
BEGIN:VEVENT
DTSTART;VALUE=DATE:20210605
DTEND;VALUE=DATE:20210607
DTSTAMP:20260420T182919
CREATED:20201213T100002Z
LAST-MODIFIED:20210514T132630Z
UID:9322-1622851200-1623023999@hscc.org.uk
SUMMARY:Cadwell Park
DESCRIPTION:The annual Wolds Trophy meeting at the fabulous Cadwell Park circuit in Lincolnshire moves back to an early summer date for 2021 with a strong line-up of races at the challenging three-dimensional track. \nThe 1-litre Historic Formula 3 cars will compete for the Justin Haler Trophy\, while more excellent single-seater action will be delivered by Historic Formula Ford 2000\, Historic Formula Ford\, Classic Formula Ford\, URS Classic Formula Ford 2000 and Formula Junior as well as a guest race for Heritage Formula Ford. \nAway from single-seaters\, Historic Road Sports\, 70s Road Sports\, Classic Clubmans and 80s Production Cars will pack out the programme.
URL:https://hscc.org.uk/event/cadwell-park/
LOCATION:Cadwell Park\, Cadwell Park Circuit\, Louth\, Lincolnshire\, LN11 9SE
CATEGORIES:70s Road Sports,80s Production,Classic Clubmans,Classic F3,Classic FF2000,Classic Formula Ford,Formula Junior,Historic FF2000,Historic Formula 3,Historic Formula Ford,Historic Road Sports
END:VEVENT
END:VCALENDAR