BEGIN:VCALENDAR
VERSION:2.0
PRODID:-//Historic Sports Car Club - ECPv6.3.5//NONSGML v1.0//EN
CALSCALE:GREGORIAN
METHOD:PUBLISH
X-WR-CALNAME:Historic Sports Car Club
X-ORIGINAL-URL:https://hscc.org.uk
X-WR-CALDESC:Events for Historic Sports Car Club
REFRESH-INTERVAL;VALUE=DURATION:PT1H
X-Robots-Tag:noindex
X-PUBLISHED-TTL:PT1H
BEGIN:VTIMEZONE
TZID:Europe/London
BEGIN:DAYLIGHT
TZOFFSETFROM:+0000
TZOFFSETTO:+0100
TZNAME:BST
DTSTART:20190331T010000
END:DAYLIGHT
BEGIN:STANDARD
TZOFFSETFROM:+0100
TZOFFSETTO:+0000
TZNAME:GMT
DTSTART:20191027T010000
END:STANDARD
END:VTIMEZONE
BEGIN:VEVENT
DTSTART;VALUE=DATE:20190927
DTEND;VALUE=DATE:20190930
DTSTAMP:20260420T182555
CREATED:20181214T095530Z
LAST-MODIFIED:20190709T150704Z
UID:4773-1569542400-1569801599@hscc.org.uk
SUMMARY:Spa Six Hour Classic Race Meeting
DESCRIPTION:We return to the iconic Spa circuit for the Grand Finale of our Jaguar Classic Challenge Series – there will be a 30 minute qualifying session and a 61 minute race. \nIn addition we\, once again\, offer the opportunity for some of our closed wheel competitors to enter a non Championship double header. \nHSCC Closed Wheel Race -Qualifying on Friday (30 mins) Race 1 Saturday (30 mins) and Race 2 Sunday (30 mins)\nHSCC eligible classes for non Championship rounds 70s Road Sports\, Historic Touring Cars\, Dunlop Saloon Car Cup\, Guards and Thundersports. \nPlease note these are Championship rounds for Historic Road Sports competitors \nSpecial Note – these races are restricted to a maximum noise level of 108db \n 
URL:https://hscc.org.uk/event/spa-six-hour-classic-3/
LOCATION:Spa Francorchamps\, Route du Circuit 55\, Stavelot\, 4970\, Belgium
END:VEVENT
END:VCALENDAR