BEGIN:VCALENDAR
VERSION:2.0
PRODID:-//Historic Sports Car Club - ECPv6.3.5//NONSGML v1.0//EN
CALSCALE:GREGORIAN
METHOD:PUBLISH
X-ORIGINAL-URL:https://hscc.org.uk
X-WR-CALDESC:Events for Historic Sports Car Club
REFRESH-INTERVAL;VALUE=DURATION:PT1H
X-Robots-Tag:noindex
X-PUBLISHED-TTL:PT1H
BEGIN:VTIMEZONE
TZID:Europe/London
BEGIN:DAYLIGHT
TZOFFSETFROM:+0000
TZOFFSETTO:+0100
TZNAME:BST
DTSTART:20170326T010000
END:DAYLIGHT
BEGIN:STANDARD
TZOFFSETFROM:+0100
TZOFFSETTO:+0000
TZNAME:GMT
DTSTART:20171029T010000
END:STANDARD
END:VTIMEZONE
BEGIN:VEVENT
DTSTART;VALUE=DATE:20170527
DTEND;VALUE=DATE:20170530
DTSTAMP:20260422T152233
CREATED:20170320T132311Z
LAST-MODIFIED:20170330T074159Z
UID:1663-1495846800-1496019599@hscc.org.uk
SUMMARY:Pau Historic Grand Prix
DESCRIPTION:27th – 28th May. \n2 day event \n\nFormula Ford 2000 – 2 Races (Non Championship)\nHistoric Formula 2 – 2 Races
URL:https://hscc.org.uk/event/pau-historic-grand-prix/
LOCATION:Pau\, Circuit de Pau\, ASAC Basco Bearnais\, Palais D'Aragon\, Bd D'Aragon\, Pau F-64000\, France\, France
END:VEVENT
END:VCALENDAR