BEGIN:VCALENDAR
VERSION:2.0
PRODID:-//Historic Sports Car Club - ECPv6.3.5//NONSGML v1.0//EN
CALSCALE:GREGORIAN
METHOD:PUBLISH
X-ORIGINAL-URL:https://hscc.org.uk
X-WR-CALDESC:Events for Historic Sports Car Club
REFRESH-INTERVAL;VALUE=DURATION:PT1H
X-Robots-Tag:noindex
X-PUBLISHED-TTL:PT1H
BEGIN:VTIMEZONE
TZID:Europe/London
BEGIN:DAYLIGHT
TZOFFSETFROM:+0000
TZOFFSETTO:+0100
TZNAME:BST
DTSTART:20170326T010000
END:DAYLIGHT
BEGIN:STANDARD
TZOFFSETFROM:+0100
TZOFFSETTO:+0000
TZNAME:GMT
DTSTART:20171029T010000
END:STANDARD
END:VTIMEZONE
BEGIN:VEVENT
DTSTART;VALUE=DATE:20170428
DTEND;VALUE=DATE:20170502
DTSTAMP:20260422T165712
CREATED:20170320T113453Z
LAST-MODIFIED:20170411T102823Z
UID:1655-1493341200-1493600399@hscc.org.uk
SUMMARY:Donington Historic Festival
DESCRIPTION:The Donington Historic Festival takes place on the 28th – 30th April. This 3 day event features the following championships: \n\nSuper Touring Cars.   Friday – Qualifying 25 mins\, Saturday Race – 20 mins\, Sunday Race 20mins.\nFormula Junior (Front Engine).  Friday – Qualifying 25 mins\, Saturday Race – 20 mins\, Sunday Race 20 mins.\nFormula Junior (Rear Engine). Friday – Qualifying 25 mins\, Saturday Race – 20 mins\, Sunday Race 20 mins.\nHistoric Formula 2.  Friday – Qualifying 25 mins\, Saturday Race – 25 mins\, Sunday Race 25 mins.\nJaguar Classic Challenge. Friday – Qualifying 25 mins\, Sunday Race 40 mins.\nGT & Sports Car Cup.    Friday – Qualifying 25 mins\, Sunday Race 120 mins.
URL:https://hscc.org.uk/event/donington-hf/
LOCATION:Donington\, Donington Park\, Castle Donington\, Derby\, DE74 2RP\, United Kingdom
END:VEVENT
END:VCALENDAR