BEGIN:VCALENDAR
VERSION:2.0
PRODID:-//Historic Sports Car Club - ECPv6.3.5//NONSGML v1.0//EN
CALSCALE:GREGORIAN
METHOD:PUBLISH
X-WR-CALNAME:Historic Sports Car Club
X-ORIGINAL-URL:https://hscc.org.uk
X-WR-CALDESC:Events for Historic Sports Car Club
REFRESH-INTERVAL;VALUE=DURATION:PT1H
X-Robots-Tag:noindex
X-PUBLISHED-TTL:PT1H
BEGIN:VTIMEZONE
TZID:Europe/London
BEGIN:DAYLIGHT
TZOFFSETFROM:+0000
TZOFFSETTO:+0100
TZNAME:BST
DTSTART:20170326T010000
END:DAYLIGHT
BEGIN:STANDARD
TZOFFSETFROM:+0100
TZOFFSETTO:+0000
TZNAME:GMT
DTSTART:20171029T010000
END:STANDARD
END:VTIMEZONE
BEGIN:VEVENT
DTSTART;VALUE=DATE:20170421
DTEND;VALUE=DATE:20170425
DTSTAMP:20260422T164903
CREATED:20170320T110535Z
LAST-MODIFIED:20170324T131319Z
UID:1650-1492736400-1492995599@hscc.org.uk
SUMMARY:Bosch Hockenheim Historic
DESCRIPTION:3 day event 21st – 23rd April \nHistoric Formula Junior – FIA Lurani Trophy
URL:https://hscc.org.uk/event/hockenheim-historic/
LOCATION:Hockenheim\, Am Motodrom\, Hockenheim\,  Baden-Württemberg\, Germany
END:VEVENT
BEGIN:VEVENT
DTSTART;VALUE=DATE:20170422
DTEND;VALUE=DATE:20170424
DTSTAMP:20260422T164903
CREATED:20170320T110830Z
LAST-MODIFIED:20170322T145000Z
UID:1652-1492822800-1492909199@hscc.org.uk
SUMMARY:Kirkistown
DESCRIPTION:22nd April \n1 day event \nFormula Ford 2000 – Qualifying + 2 Races
URL:https://hscc.org.uk/event/kirkistown/
LOCATION:Kirkistown\, Kirkistown Racing Circuit\, 130 Rubane Road\,  Kircubbin\, Co. Down\, BT22 1AU\, United Kingdom
END:VEVENT
END:VCALENDAR